BEGIN:VCALENDAR
VERSION:2.0
PRODID:-//Raciborski Portal Internetowy - raciborz.com.pl - ECPv6.15.17.1//NONSGML v1.0//EN
CALSCALE:GREGORIAN
METHOD:PUBLISH
X-WR-CALNAME:Raciborski Portal Internetowy - raciborz.com.pl
X-ORIGINAL-URL:https://raciborz.com.pl
X-WR-CALDESC:Wydarzenia dla Raciborski Portal Internetowy - raciborz.com.pl
REFRESH-INTERVAL;VALUE=DURATION:PT1H
X-Robots-Tag:noindex
X-PUBLISHED-TTL:PT1H
BEGIN:VTIMEZONE
TZID:Europe/Warsaw
BEGIN:DAYLIGHT
TZOFFSETFROM:+0100
TZOFFSETTO:+0200
TZNAME:CEST
DTSTART:20250330T010000
END:DAYLIGHT
BEGIN:STANDARD
TZOFFSETFROM:+0200
TZOFFSETTO:+0100
TZNAME:CET
DTSTART:20251026T010000
END:STANDARD
BEGIN:DAYLIGHT
TZOFFSETFROM:+0100
TZOFFSETTO:+0200
TZNAME:CEST
DTSTART:20260329T010000
END:DAYLIGHT
BEGIN:STANDARD
TZOFFSETFROM:+0200
TZOFFSETTO:+0100
TZNAME:CET
DTSTART:20261025T010000
END:STANDARD
BEGIN:DAYLIGHT
TZOFFSETFROM:+0100
TZOFFSETTO:+0200
TZNAME:CEST
DTSTART:20270328T010000
END:DAYLIGHT
BEGIN:STANDARD
TZOFFSETFROM:+0200
TZOFFSETTO:+0100
TZNAME:CET
DTSTART:20271031T010000
END:STANDARD
END:VTIMEZONE
BEGIN:VEVENT
DTSTART;VALUE=DATE:20260304
DTEND;VALUE=DATE:20260327
DTSTAMP:20260420T030834
CREATED:20260302T230010Z
LAST-MODIFIED:20260302T225915Z
UID:1000369309-1772582400-1774569599@raciborz.com.pl
SUMMARY:Spotkania klubowe w raciborskiej bibliotece w marcu
DESCRIPTION:Kluby językowe\, artystyczne\, filmowe\, dla fanów gier planszowych i dobrej książki\, dla dzieci\, młodzieży czy seniorów – biblioteka zaprasza na spotkania. \nMiejska i Powiatowa Biblioteka Publiczna w Raciborzu zaprasza wraz z nadchodzącą wiosną do udziału w różnorodnych zajęciach\, które odbywać się będą w bibliotece głównej i jej filiach. Zaplanowano spotkania literackie\, filmowe\, językowe\, artystyczne\, a także wydarzenia dla miłośników gier czy nowych technologii. Wszystkie spotkania odbywają się w kameralnej atmosferze i są bezpłatne. \nWśród propozycji znalazły się m.in. spotkania Dyskusyjnych Klubów Książki dla młodzieży i dorosłych\, podczas których uczestnicy porozmawiają o książkach takich autorów jak Keanu Reeves\, China Miéville i Miriam Toews. W ramach Bibliotecznego Klubu Filmowego zaplanowano natomiast projekcję filmu w reżyserii Jana Komasy. Miłośnicy języków obcych będą mogli rozwijać swoje umiejętności podczas English Conversation Club\, czyli spotkań w języku angielskim. \nNie zabraknie również propozycji dla fanów gier i fantastyki. Spotkania organizują m.in. Bastion Raciborski Klub Fantastyki i Klub Gier Planszowych\, a młodsi uczestnicy będą mogli spróbować swoich sił w zajęciach BiblioGRAnie. W bibliotecznych filiach odbędą się także warsztaty artystyczne i modelarskie\, podczas których uczestnicy stworzą m.in. papierowe kurki czy wielkanocne pisanki. \nBogaty program przygotowano również dla dzieci i młodzieży zainteresowanych robotyką i programowaniem. W marcu odbędą się warsztaty i spotkania klubów wykorzystujących klocki Lego\, w tym zajęcia z programowania\, robotyki i kreatywnego budowania. \nBiblioteka zaprasza także na wydarzenia integrujące lokalną społeczność. W planie są spotkania Kawiarenki Seniora\, Klub Przyjaciół Biblioteki z okazji Dnia Kobiet\, karaoke na Stacji Młodych\, a także Biblioteka Kobiet – krąg łączący literaturę z praktyką uważności. W ofercie znalazły się również zajęcia dla ojców z dziećmi oraz spotkanie miłośniczek rękodzieła. \nKLUBY LITERACKIE I FILMOWE \nDyskusyjny Klub Książki dla młodzieży – 11 marca\, godz. 15:00\nKsiążka na marzec: „Księga innych miejsc” Keanu Reeves\, Mieville China\n(Stacja Młodych\, Plac Dworcowy 1) \nBiblioteczny Klub Filmowy – 18 marca\, godz. 17:00\nFilm Jana Komasy\n(Stacja Młodych\, Plac Dworcowy 1) \nDyskusyjny Klub Książki dla dorosłych – 26 marca\, godz. 16:30\nKsiążka na marzec: „Głosy kobiet” Miriam Toews\n(Biblioteka\, Kasprowicza 12) \nKLUBY JĘZYKOWE \nEnglish Conversation Club – 16 marca\, godz. 17:00\nKonwersacje w języku angielskim\n(Biblioteka\, Kasprowicza 12) \nKLUBY GIER \nBastion Raciborski Klub Fantastyki – 5\, 19 marca\, godz. 16:00-18:00\n(Stacja Młodych\, Plac Dworcowy 1) \nKlub Gier Planszowych – 13 marca\, godz. 15:00-21:00\n(Stacja Młodych\, Plac Dworcowy 1) \nBiblioGRAnie – 20 marca\, godz. 16:00-18:00\n(Filia nr 2 Ostróg\, ul. Bielska 12) \nKLUBY ARTYSTYCZNE \nWarsztaty na „5” – 4 marca\, godz. 14:00\nTemat zajęć: papierowe kurki\n(Filia nr 5 Płonia\, ul. Sudecka 2) \nWarsztaty modelarskie z Andrzejem Beraczem – 13 i 27 marca\, godz. 16:00\nWycinamy\, kleimy\, tworzymy!\n(Filia nr 8\, ul. Żorska 2) \nZmaluj coś! – 19 marca\, godz. 17:00\nTemat zajęć: drewniane pisanki wielkanocne\n(Filia nr 2 Ostróg\, ul. Bielska 12) \nKLUBY LEGO \nKlub LEGO Programowanie – 10 marca\, godz. 16:00\n(Biblioteka\, Kasprowicza 12) \nWarsztaty LEGO SPIKE Essential – 11 marca\, godz. 14:00\n(Filia nr 5 Płonia\, ul. Sudecka 2) \nWarsztaty LEGO SPIKE Prime – 12 marca\, godz. 14:00\n(Filia nr 5 Płonia\, ul. Sudecka 2) \nKlub Robotyki Klocków LEGO – 18 marca\, godz. 15:00\n(Filia nr 3 Ocice\, ul. Tuwima 1) \nKlub LEGO Buduj – 24 marca\, godz. 16:00\n(Biblioteka\, Kasprowicza 12) \nDLA KAŻDEGO\, NA KAŻDY TEMAT \nKawiarenka seniora – 10\, 24 marca\, godz. 11:00\nRozmowy w kameralnym gronie przy kawie\n(Biblioteka\, Kasprowicza 12) \nKlub Przyjaciół Biblioteki – 10 marca\, godz. 17:00\nDzień Kobiet: koncert harfistki Luizy Harasim-Grzelki i spotkanie autorskie Jadwigi „Wigi” Wojnowskiej\n(Filia nr 2 Ostróg\, ul. Bielska 12) \nKaraoke na Stacji Młodych – 20 marca\, godz. 17:00\nPoczuj się jak gwiazda i poznaj nowych przyjaciół!\n(Stacja Młodych\, Plac Dworcowy 1) \nBiblioteka kobiet – 20 marca\, godz. 19:00\nKrąg kobiet\, które pragną połączyć miłość literatury z praktyką uważności (mindfulness)\n(Biblioteka\, ul. Kasprowicza 12) \nKlub Ojca – 21 marca\, godz. 11:00\nBuduj z klockami LEGO\n(Biblioteka\, ul. Kasprowicza 12) \nZrobione w domu-pokazane w bibliotece – 26 marca\, godz. 16:00\nSpotkanie pasjonatek rękodzieła\n(Filia nr 8\, ul. Żorska 2) \noprac. /kp/ \n\n   \n  \n   \n   \n  Obserwuj nas w Google News\n  \n  \n  \n  \n  \n  \n  Integracja i współpraca gospodarcza \n  \n\n  \n    \n      \n        \n          \n            \n              \n                \n              \n            \n          \n          \n            \n              Kwalifikowana pieczęć elektroniczna a KSeF – rosnące znaczenie dla gospodarki\n              \n            \n          \n        \n      \n      \n      \n        \n          \n            \n              \n                \n              \n            \n          \n          \n            \n              Przemysł i energetyka w czasie transformacji. Kongres INTO 2026 w Wiśle\n              \n            \n          \n        \n      \n      \n      \n        \n          \n            \n              \n                \n              \n            \n          \n          \n            \n              Wielkanoc: tradycja\, codzienność i rosnące ceny
URL:https://raciborz.com.pl/zapowiedzi/spotkania-klubowe-w-raciborskiej-bibliotece-w-marcu
CATEGORIES:rozrywka
ATTACH;FMTTYPE=image/jpeg:https://raciborz.com.pl/wp-content/uploads/2026/03/biblioteka-klub.jpg
ORGANIZER;CN="Miejska i Powiatowa Biblioteka Publiczna w Raciborzu":MAILTO:biblioteka@biblrac.pl
END:VEVENT
BEGIN:VEVENT
DTSTART;VALUE=DATE:20260320
DTEND;VALUE=DATE:20260403
DTSTAMP:20260420T030834
CREATED:20260304T230032Z
LAST-MODIFIED:20260304T232059Z
UID:1000369434-1773964800-1775174399@raciborz.com.pl
SUMMARY:Jarmark wielkanocny w Starym Opactwie w Rudach od 20 marca do 2 kwietnia
DESCRIPTION:Odwiedzający będą mogli nabyć ręcznie wykonane ozdoby\, tradycyjne pisanki i wypieki czy regionalne specjały. \nW Starym Opactwie w Rudach odbędzie się jarmark wielkanocny. Wydarzenie zaplanowano od 20 marca do 2 kwietnia – codziennie w godz. od 10:00 do 18:00. \nJarmark wielkanocny w Rudach od lat przyciąga mieszkańców regionu oraz turystów zainteresowanych tradycjami związanymi z okresem świąt wielkanocnych. W historycznym otoczeniu dawnego opactwa przygotowane zostaną stoiska z rękodziełem i świątecznymi dekoracjami. Odwiedzający będą mogli zobaczyć oraz kupić m.in. ręcznie wykonane ozdoby\, pisanki\, stroiki i inne elementy nawiązujące do wielkanocnej symboliki. \nWażną częścią wydarzenia będzie również oferta regionalnych produktów spożywczych. Na stoiskach pojawią się wyroby przygotowane przez lokalnych producentów\, w tym sery\, wędliny\, miody\, konfitury czy inne tradycyjne przysmaki. Organizatorzy zapowiadają także możliwość skorzystania z oferty gastronomicznej\, którą przygotuje działająca na terenie kompleksu Restauracja Cysterska. \nJarmark ma być okazją nie tylko do zakupów\, ale również do spędzenia czasu w rodzinnej atmosferze i poznania wielkanocnych tradycji. – Ten wyjątkowy jarmark jest doskonałą okazją do odkrycia piękna tradycji i kultury wielkanocnej oraz skosztowania wyjątkowych smakołyków i unikalnych produktów. To także doskonała okazja do spędzenia czasu z rodziną i przyjaciółmi. W pięknej\, malowniczej scenerii Starego Opactwa w Rudach można odpocząć od miejskiego zgiełku i cieszyć się pięknem przyrody – zachęcają organizatorzy. \n \nfot. arch. red.\noprac. /kp/ \n\n   \n  \n   \n   \n  Obserwuj nas w Google News\n  \n  \n  \n  \n  \n  \n  Integracja i współpraca gospodarcza \n  \n\n  \n    \n      \n        \n          \n            \n              \n                \n              \n            \n          \n          \n            \n              Kwalifikowana pieczęć elektroniczna a KSeF – rosnące znaczenie dla gospodarki\n              \n            \n          \n        \n      \n      \n      \n        \n          \n            \n              \n                \n              \n            \n          \n          \n            \n              Przemysł i energetyka w czasie transformacji. Kongres INTO 2026 w Wiśle\n              \n            \n          \n        \n      \n      \n      \n        \n          \n            \n              \n                \n              \n            \n          \n          \n            \n              Wielkanoc: tradycja\, codzienność i rosnące ceny
URL:https://raciborz.com.pl/zapowiedzi/jarmark-wielkanocny-w-starym-opactwie-w-rudach-od-20-marca-do-2-kwietnia
LOCATION:Pocysterski Zespół Klasztorno-Pałacowy w Rudach\, Cysterska 4\, Rudy\, śląskie\, 47-430\, Polska
CATEGORIES:Religa
ATTACH;FMTTYPE=image/jpeg:https://raciborz.com.pl/wp-content/uploads/2019/11/rudy-opactwo.jpg
ORGANIZER;CN="Pocysterski Zesp%C3%B3%C5%82 Klasztorno-Pa%C5%82acowy w Rudach":MAILTO:jan.opactwo@gliwice.opoka.org.pl
END:VEVENT
BEGIN:VEVENT
DTSTART;TZID=Europe/Warsaw:20260322T110000
DTEND;TZID=Europe/Warsaw:20260322T110000
DTSTAMP:20260420T030834
CREATED:20260226T230019Z
LAST-MODIFIED:20260226T225721Z
UID:1000369152-1774177200-1774177200@raciborz.com.pl
SUMMARY:Warsztaty tańca intuicyjnego dla seniorów w Raciborskim Centrum Kultury 22 marca
DESCRIPTION:Warsztaty skupią się na podążaniu za naturalnymi impulsami ciała\, oddechem oraz muzyką\, a wszystko to odbędzie się w kameralnej i sprzyjającej relaksowi atmosferze. \nW niedzielę 22 marca w godz. od 11:00 do 13:00 w sali kameralnej RCK RDK przy ul. Chopina 21 odbędą się warsztaty tańca intuicyjnego dla seniorów. Organizatorem wydarzenia jest Raciborskie Centrum Kultury\, które zaprasza do udziału wszystkich zainteresowanych aktywnym spędzeniem czasu. \nZajęcia zostaną zorganizowane po raz pierwszy jako uzupełnienie popularnego cyklu spotkań tanecznych „Fajfy jak za dawnych lat…”. Ze względu na okres Wielkiego Postu kolejne odsłony tego cyklu zaplanowano dopiero na kwiecień\, natomiast marcowe warsztaty stanowią dodatkową propozycję dla seniorów poszukujących ruchu i muzycznych inspiracji. \nWarsztaty będą okazją do swobodnej ekspresji ruchowej bez narzuconej choreografii i ocen. Uczestnicy\, w kameralnej i przyjaznej atmosferze\, będą mogli podążać za naturalnymi impulsami ciała\, oddechem i muzyką. Zajęcia poprowadzi Katarzyna Baron\, która wprowadzi uczestników w ideę tańca intuicyjnego i zadba o komfortową przestrzeń do ruchu. \nKoszt udziału wynosi 10 zł od osoby. Zapisy przyjmowane są w RCK RDK przy ul. Chopina 21 oraz telefonicznie pod numerami 32 412 32 48 i 32 412 32 40. Liczba miejsc jest ograniczona. \n \nfot. RCK\noprac. /kp/ \n\n   \n  \n   \n   \n  Obserwuj nas w Google News\n  \n  \n  \n  \n  \n  \n  Integracja i współpraca gospodarcza \n  \n\n  \n    \n      \n        \n          \n            \n              \n                \n              \n            \n          \n          \n            \n              Kwalifikowana pieczęć elektroniczna a KSeF – rosnące znaczenie dla gospodarki\n              \n            \n          \n        \n      \n      \n      \n        \n          \n            \n              \n                \n              \n            \n          \n          \n            \n              Przemysł i energetyka w czasie transformacji. Kongres INTO 2026 w Wiśle\n              \n            \n          \n        \n      \n      \n      \n        \n          \n            \n              \n                \n              \n            \n          \n          \n            \n              Wielkanoc: tradycja\, codzienność i rosnące ceny
URL:https://raciborz.com.pl/zapowiedzi/warsztaty-tanca-intuicyjnego-dla-seniorow-w-raciborskim-centrum-kultury-22-marca
LOCATION:Raciborskie Centrum Kultury\, Raciborskie Centrum Kultury\, Racibórz\, Śląskie\, 47-400\, Polska
CATEGORIES:rozrywka
ATTACH;FMTTYPE=image/jpeg:https://raciborz.com.pl/wp-content/uploads/2025/10/fajfy-jak-za-dawnych-lat-potancowka-rck-28.jpg
ORGANIZER;CN="Raciborskie Centrum Kultury":MAILTO:rck@rck.com.pl
END:VEVENT
BEGIN:VEVENT
DTSTART;TZID=Europe/Warsaw:20260322T170000
DTEND;TZID=Europe/Warsaw:20260322T170000
DTSTAMP:20260420T030835
CREATED:20260308T230053Z
LAST-MODIFIED:20260308T232353Z
UID:1000369585-1774198800-1774198800@raciborz.com.pl
SUMMARY:„Światowa Gala Muzyczna. Od Wiednia do Rio de Janeiro” w Raciborskim Centrum Kultury 22 marca
DESCRIPTION:Organizatorzy zapowiadają wieczór pełen emocji\, kolorów i ponadczasowych melodii\, które od lat zachwycają publiczność na całym świecie. \n22 marca o godz. 17:00 w Raciborskim Centrum Kultury odbędzie się „Światowa Gala Muzyczna. Od Wiednia do Rio de Janeiro”. Wydarzenie organizowane przez Agencja Artystyczna MUZA będzie częścią ogólnopolskiej trasy koncertowej. \nPubliczność w Raciborzu czeka wieczór wypełniony dźwiękami z różnych stron świata. Program koncertu obejmuje zarówno majestatyczne walce wiedeńskie i znane arie operetkowe\, jak i nastrojowe tanga argentyńskie oraz pełne temperamentu przeboje greckie\, hiszpańskie i włoskie. – „Światowa Gala Muzyczna. od Wiednia do Rio de Janeiro” to prawdziwe święto muzyki – pełne pasji\, nostalgii\, zachwytu i radości życia – zapowiadają organizatorzy. \nNa scenie wystąpią soliści: sopranistka Monika Biederman-Pers\, baryton Piotr Karzełek\, tenor Jakub Oczkowski i bas Marcin Korbut. Towarzyszyć im będzie Orkiestra Duo Performance Band pod kierownictwem Mateusza Dudka. Oprawę widowiska uzupełnią tancerki Bling Stars z Rio oraz mistrzowie tańców latynoamerykańskich. \nBilety na wydarzenie dostępne są u organizatora – bez opłaty serwisowej (tel. 531 531 001\, 531 531 002\, bilety@agencjamuza.pl)\, w kasie Raciborskiego Centrum Kultury (tel. 32 412 32 45) oraz za pośrednictwem internetowych platform sprzedaży (KupBilecik https://kbq.pl/188767\, Biletyna https://bilety.io/n1SxT\, eBilet https://sklep.ebilet.pl/46443371157259006). Organizator przewidział również zniżki dla grup (rezerwacja powyżej 10 biletów – 10% taniej; powyżej 50 biletów -10% taniej oraz 1 bilet gratis dla organizatora grupy; https://agencjamuza.pl/swiatowa-gala-muzyczna/24657573-5577-4c95-91d0-083af6579600/). \n \noprac. /kp/ \n\n   \n  \n   \n   \n  Obserwuj nas w Google News\n  \n  \n  \n  \n  \n  \n  Integracja i współpraca gospodarcza \n  \n\n  \n    \n      \n        \n          \n            \n              \n                \n              \n            \n          \n          \n            \n              Kwalifikowana pieczęć elektroniczna a KSeF – rosnące znaczenie dla gospodarki\n              \n            \n          \n        \n      \n      \n      \n        \n          \n            \n              \n                \n              \n            \n          \n          \n            \n              Przemysł i energetyka w czasie transformacji. Kongres INTO 2026 w Wiśle\n              \n            \n          \n        \n      \n      \n      \n        \n          \n            \n              \n                \n              \n            \n          \n          \n            \n              Wielkanoc: tradycja\, codzienność i rosnące ceny
URL:https://raciborz.com.pl/zapowiedzi/swiatowa-gala-muzyczna-od-wiednia-do-rio-de-janeiro-w-raciborskim-centrum-kultury-22-marca
LOCATION:Raciborskie Centrum Kultury\, Raciborskie Centrum Kultury\, Racibórz\, Śląskie\, 47-400\, Polska
CATEGORIES:rozrywka
ATTACH;FMTTYPE=image/jpeg:https://raciborz.com.pl/wp-content/uploads/2026/03/swiatowa-gala-raciborz-2.jpg
ORGANIZER;CN="Raciborskie Centrum Kultury":MAILTO:rck@rck.com.pl
END:VEVENT
BEGIN:VEVENT
DTSTART;TZID=Europe/Warsaw:20260322T170000
DTEND;TZID=Europe/Warsaw:20260322T170000
DTSTAMP:20260420T030835
CREATED:20260315T230059Z
LAST-MODIFIED:20260315T223057Z
UID:1000369813-1774198800-1774198800@raciborz.com.pl
SUMMARY:Koncert pieśni pasyjnych i pokutnych „Płaczcie anieli” w Rudach 22 marca
DESCRIPTION:Przed publicznością wystąpią: katowicki zespół śpiewaczy Apertum Cor oraz gospodarze wydarzenia – miejscowy chór im. Juliusza Rogera. \n22 marca o godz. 17:00 w Bazylice Wniebowzięcia Najświętszej Maryi Panny w Rudach odbędzie się koncert pieśni pasyjnych i pokutnych zatytułowany „Płaczcie anieli”. Wydarzenie będzie okazją do wysłuchania muzyki chóralnej związanej z okresem Wielkiego Postu\, a przed publicznością wystąpią dwa zespoły działające w strukturach Śląski Związek Chórów i Orkiestr – Zespół Śpiewaczy Apertum Cor z Katowic i chór im. Juliusza Rogera z Rud. \nZespół śpiewaczy Apertum Cor\, którego nazwa oznacza po łacinie „Otwarte Serce”\, powstał w 2017 r. w Katowicach w dzielnicy Zadole. Od początku swojej działalności aktywnie uczestniczy w wydarzeniach muzycznych o zasięgu lokalnym i regionalnym\, a także w projektach ogólnopolskich. W repertuarze zespołu znajdują się zarówno utwory dawnej muzyki sakralnej\, jak i współczesne kompozycje\, często wykonywane po raz pierwszy przed publicznością. Chór wykonuje dzieła w różnych językach\, m.in. po polsku\, staro-cerkiewno-słowiańsku\, angielsku i po łacinie\, szczególne miejsce poświęcając twórczości kompozytorów związanych ze Śląskiem. Zespół angażuje się również w działania społeczne\, występując m.in. w szpitalach\, ośrodkach zdrowia i placówkach rehabilitacyjnych. Umiejętności wykonawcze chóru potwierdzają liczne nagrody zdobyte na konkursach i festiwalach chóralnych w Polsce\, w tym wyróżnienia na ogólnopolskich i międzynarodowych wydarzeniach muzyki sakralnej (Srebrne i Brązowe Pasmo na II Ogólnopolskim Konkursie Chórów „O Crux Ave”\, Srebrne Pasmo na Międzynarodowym Festiwalu Chóralnym „Resovia Sings”\, Srebrne Pasmo na Międzynarodowym Festiwalu Muzyki Chóralnej „Cantantes Lublinensis”\, Złoty Dyplom na Ogólnopolskim Konkursie Muzyki Sakralnej „Dona Nobis Pacem” we Wrocławiu\, Złote Pasmo na Konkursie Chóralnym Ogólnopolskiego Forum Chóralistyki Wrocław Miastem Muzyki 2025 r.). Od jesieni 2023 r. zespół działa przy parafii św. Apostołów Piotra i Pawła w Katowicach\, gdzie pełni funkcję chóru parafialnego. Grupę tworzą osoby w różnym wieku\, od młodzieży po seniorów\, a dyrygentem zespołu jest Kamil Gojowy. \nDrugim wykonawcą podczas koncertu będzie chór im. Juliusza Rogera\, którego początki sięgają 1945 r. Zespół powstał z inicjatywy Ryszarda Poloczka\, a jego pierwsza próba odbyła się 1 października tego samego roku. W 1956 r. decyzją Ministerstwa Kultury i Sztuki chórowi nadano imię Juliusza Rogera – lekarza\, przyrodnika i etnografa\, który zasłynął jako badacz i zbieracz śląskich pieśni ludowych opublikowanych w zbiorze „Pieśni ludu polskiego w Górnym Szląsku”. Od 1980 r. opiekę nad zespołem sprawuje Miejski Ośrodek Kultury\, Sportu i Rekreacji w Kuźni Raciborskiej. \nW ostatnich latach chór brał udział w licznych konkursach i wydarzeniach muzycznych\, zdobywając m.in. nagrody w konkursie pieśni Czesława Prudla w Lyskach oraz realizując nagrania kolędowe emitowane w regionalnym radiu. Zespół zwyciężył również w konkursie „Chór-Mistrzowsko”\, co umożliwiło prezentację repertuaru w Filharmonii Śląskiej w Katowicach. Podczas obchodów 80-lecia działalności chór otrzymał Złotą Odznakę Honorową VI stopnia z Brylantem przyznawaną przez Śląski Związek Chórów i Orkiestr. W październiku 2025 r. podczas uroczystej gali w Muzeum Śląskim w Katowicach zespołowi wręczono Międzynarodową Nagrodę im. Stanisława Moniuszki za wkład w rozwój społecznego ruchu muzycznego i pielęgnowanie tradycji śpiewu na Śląsku. W styczniu 2026 r. chór znalazł się również w gronie laureatów nagrody Kuźniański Laur za promowanie gminy Kuźnia Raciborska. \nChór im. Juliusza Rogera działa przy Bazylice Wniebowzięcia Najświętszej Maryi Panny w Rudach i liczy obecnie ponad 40 członków. Zespół tworzą osoby połączone wspólną pasją do muzyki chóralnej i śpiewu. Dyrygentką jest Maria Wiechoczek. \n \noprac. /kp/ \n\n   \n  \n   \n   \n  Obserwuj nas w Google News\n  \n  \n  \n  \n  \n  \n  Integracja i współpraca gospodarcza \n  \n\n  \n    \n      \n        \n          \n            \n              \n                \n              \n            \n          \n          \n            \n              Kwalifikowana pieczęć elektroniczna a KSeF – rosnące znaczenie dla gospodarki\n              \n            \n          \n        \n      \n      \n      \n        \n          \n            \n              \n                \n              \n            \n          \n          \n            \n              Przemysł i energetyka w czasie transformacji. Kongres INTO 2026 w Wiśle\n              \n            \n          \n        \n      \n      \n      \n        \n          \n            \n              \n                \n              \n            \n          \n          \n            \n              Wielkanoc: tradycja\, codzienność i rosnące ceny
URL:https://raciborz.com.pl/zapowiedzi/koncert-piesni-pasyjnych-i-pokutnych-placzcie-anieli-w-rudach-22-marca
LOCATION:Bazylika WNMP w Rudach\, Rudy\, Cysterska 1
CATEGORIES:Religa
ATTACH;FMTTYPE=image/jpeg:https://raciborz.com.pl/wp-content/uploads/2026/03/chor-rudy.jpg
ORGANIZER;CN="Miejski O%C5%9Brodek Kultury%2C Sportu i Rekreacji w Ku%C5%BAni Raciborskiej":MAILTO:sekretariat@kuzniakultury.pl
END:VEVENT
END:VCALENDAR