BEGIN:VCALENDAR
VERSION:2.0
PRODID:-//Raciborski Portal Internetowy - raciborz.com.pl - ECPv6.15.17.1//NONSGML v1.0//EN
CALSCALE:GREGORIAN
METHOD:PUBLISH
X-ORIGINAL-URL:https://raciborz.com.pl
X-WR-CALDESC:Wydarzenia dla Raciborski Portal Internetowy - raciborz.com.pl
REFRESH-INTERVAL;VALUE=DURATION:PT1H
X-Robots-Tag:noindex
X-PUBLISHED-TTL:PT1H
BEGIN:VTIMEZONE
TZID:Europe/Warsaw
BEGIN:DAYLIGHT
TZOFFSETFROM:+0100
TZOFFSETTO:+0200
TZNAME:CEST
DTSTART:20250330T010000
END:DAYLIGHT
BEGIN:STANDARD
TZOFFSETFROM:+0200
TZOFFSETTO:+0100
TZNAME:CET
DTSTART:20251026T010000
END:STANDARD
BEGIN:DAYLIGHT
TZOFFSETFROM:+0100
TZOFFSETTO:+0200
TZNAME:CEST
DTSTART:20260329T010000
END:DAYLIGHT
BEGIN:STANDARD
TZOFFSETFROM:+0200
TZOFFSETTO:+0100
TZNAME:CET
DTSTART:20261025T010000
END:STANDARD
BEGIN:DAYLIGHT
TZOFFSETFROM:+0100
TZOFFSETTO:+0200
TZNAME:CEST
DTSTART:20270328T010000
END:DAYLIGHT
BEGIN:STANDARD
TZOFFSETFROM:+0200
TZOFFSETTO:+0100
TZNAME:CET
DTSTART:20271031T010000
END:STANDARD
END:VTIMEZONE
BEGIN:VEVENT
DTSTART;TZID=Europe/Warsaw:20260503T133000
DTEND;TZID=Europe/Warsaw:20260503T133000
DTSTAMP:20260421T090801
CREATED:20260402T220102Z
LAST-MODIFIED:20260402T212953Z
UID:1000370847-1777815000-1777815000@raciborz.com.pl
SUMMARY:XVIII Bieg Bez Granic w Raciborzu 3 maja
DESCRIPTION:XVIII Bieg Bez Granic to okazja do sportowej rywalizacji\, aktywnego spędzenia czasu oraz uczczenia pamięci asp. Michała Kędzierskiego. \n3 maja w Raciborzu odbędzie się XVIII Bieg Bez Granic\, który po raz kolejny zostanie zorganizowany w ramach Memoriału im. Michała Kędzierskiego. \nStart zaplanowano na stadionie przy ul. Zamkowej 4\, a trasy poprowadzą ulicami w centrum miasta. Organizatorzy przygotowali kilka dystansów\, dzięki czemu w wydarzeniu mogą wziąć udział osoby w różnym wieku i o różnym poziomie zaawansowania. Będą miały miejsce: bieg młodzieżowy na dystansie 1\,7 km\, bieg na 5 km\, marsz nordic walking na 5 km oraz bieg główny na dystansie 10 km. Przewidziano także osobne kategorie dla osób z niepełnosprawnościami na dystansach 5 i 10 km. \nStart biegu młodzieżowego\, biegu open na 5 km oraz marszu nordic walking zaplanowano na godz. 13:30\, z kolei bieg główny rozpocznie się o godz. 15:00. \nLiczba miejsc jest ograniczona\, dlatego zachęcają do wcześniejszej rejestracji poprzez formularz dostępny online: zapisy.personalbest.pl/xviii-bieg-bez-granic-w-ramach-memoria-u-im-micha-a-kedzierskiego-v16018. \n \noprac. /kp/ \n\n   \n  \n   \n   \n  Obserwuj nas w Google News\n  \n  \n  \n  \n  \n  \n  Integracja i współpraca gospodarcza \n  \n\n  \n    \n      \n        \n          \n            \n              \n                \n              \n            \n          \n          \n            \n              Kwalifikowana pieczęć elektroniczna a KSeF – rosnące znaczenie dla gospodarki\n              \n            \n          \n        \n      \n      \n      \n        \n          \n            \n              \n                \n              \n            \n          \n          \n            \n              Przemysł i energetyka w czasie transformacji. Kongres INTO 2026 w Wiśle\n              \n            \n          \n        \n      \n      \n      \n        \n          \n            \n              \n                \n              \n            \n          \n          \n            \n              Wielkanoc: tradycja\, codzienność i rosnące ceny
URL:https://raciborz.com.pl/zapowiedzi/xviii-bieg-bez-granic-w-raciborzu-3-maja
LOCATION:Stadion Miejski w Raciborzu\, Zamkowa 4\, Racibórz\, śląskie\, 47-400\, Polska
CATEGORIES:sport zdrowie
ATTACH;FMTTYPE=image/jpeg:https://raciborz.com.pl/wp-content/uploads/2025/05/memorial-im-michala-kedzierskiego-bieg-bez-granic-35.jpg
ORGANIZER;CN="O%C5%9Brodek Sportu i Rekreacji w Raciborzu":MAILTO:administracja@osirraciborz.pl
END:VEVENT
BEGIN:VEVENT
DTSTART;TZID=Europe/Warsaw:20260509T160000
DTEND;TZID=Europe/Warsaw:20260509T160000
DTSTAMP:20260421T090801
CREATED:20260323T112237Z
LAST-MODIFIED:20260323T112237Z
UID:1000370144-1778342400-1778342400@raciborz.com.pl
SUMMARY:IV Bieg z Książką na stadionie miejskim w Raciborzu 9 maja
DESCRIPTION:Uczestnicy będą mogli zmierzyć się na dystansie rodzinnym (400 m)\, w sztafecie (4×400 m) i w biegu indywidualnym (1000 m). \nRaciborska biblioteka wspólnie z Ośrodkiem Sportu i Rekreacji w Raciborzu zapraszają do udziału w czwartej edycji wydarzenia pod nazwą „Bieg z Książką”. Impreza odbędzie się w sobotę 9 maja i będzie częścią obchodów Ogólnopolskiego Tygodnia Bibliotek. Organizatorzy zachęcają do aktywnego spędzenia czasu wszystkich miłośników ruchu i literatury. \nUczestnicy będą mogli wystartować w jednej z trzech konkurencji. W programie znalazł się rodzinny bieg na dystansie 400 m\, sztafeta z książką na dystansie 4×400 m oraz bieg indywidualny na 1000 m. Wydarzenie ma charakter rekreacyjny\, dlatego podczas rywalizacji nie będzie prowadzony pomiar czasu. Najważniejsza jest wspólna zabawa i promocja czytelnictwa połączona z aktywnością fizyczną. \nWarunkiem udziału w biegu jest posiadanie w trakcie startu książki w ręku lub słuchanie audiobooka przez słuchawki. Do udziału zaproszeni są również miłośnicy nordic walking. Organizatorzy zapowiadają przyznanie nagrody specjalnej m.in. za najbardziej pomysłową nazwę drużyny o charakterze literackim\, oryginalne przebranie czy kreatywny doping. \nOprócz samych biegów na uczestników i odwiedzających czekać będą dodatkowe atrakcje. W programie zaplanowano m.in. aktywności dla dzieci\, kiermasz książek oraz poczęstunek w postaci domowych wypieków. Rozgrzewkę przed startem poprowadzi Patrycja Chomiczewska z Hobby Sport. \nOsoby zainteresowane udziałem mogą zgłosić się wcześniej telefonicznie (32 415 37 24 w. 23) lub mailowo (promocja@biblrac.pl) w bibliotece\, a także zapisać się w dniu wydarzenia. Rejestracja rozpocznie się o godz. 15:30 i wymaga wypełnienia formularza zgłoszeniowego. Start imprezy zaplanowano na godz. 16:00 na stadionie OSiR przy ul. Zamkowej 4 w Raciborzu. \n \nfot. MiPBP w Raciborzu\noprac. /kp/ \n\n   \n  \n   \n   \n  Obserwuj nas w Google News\n  \n  \n  \n  \n  \n  \n  Integracja i współpraca gospodarcza \n  \n\n  \n    \n      \n        \n          \n            \n              \n                \n              \n            \n          \n          \n            \n              Kwalifikowana pieczęć elektroniczna a KSeF – rosnące znaczenie dla gospodarki\n              \n            \n          \n        \n      \n      \n      \n        \n          \n            \n              \n                \n              \n            \n          \n          \n            \n              Przemysł i energetyka w czasie transformacji. Kongres INTO 2026 w Wiśle\n              \n            \n          \n        \n      \n      \n      \n        \n          \n            \n              \n                \n              \n            \n          \n          \n            \n              Wielkanoc: tradycja\, codzienność i rosnące ceny
URL:https://raciborz.com.pl/zapowiedzi/iv-bieg-z-ksiazka-na-stadionie-miejskim-w-raciborzu-9-maja
LOCATION:Stadion Miejski w Raciborzu\, Zamkowa 4\, Racibórz\, śląskie\, 47-400\, Polska
CATEGORIES:sport zdrowie
ATTACH;FMTTYPE=image/jpeg:https://raciborz.com.pl/wp-content/uploads/2025/05/charytatywny-bieg-z-ksiazka-34.jpg
ORGANIZER;CN="Miejska i Powiatowa Biblioteka Publiczna w Raciborzu":MAILTO:biblioteka@biblrac.pl
END:VEVENT
BEGIN:VEVENT
DTSTART;TZID=Europe/Warsaw:20260607T140000
DTEND;TZID=Europe/Warsaw:20260607T140000
DTSTAMP:20260421T090801
CREATED:20260312T230014Z
LAST-MODIFIED:20260312T233235Z
UID:1000369771-1780840800-1780840800@raciborz.com.pl
SUMMARY:„Bieg na Piątkę po Powiecie Raciborskim” w Sławikowie 7 czerwca
DESCRIPTION:Pierwszy z biegów zaplanowano w gminie Rudnik\, a start i meta będą zlokalizowane przy ruinach pałacu w Sławikowie. \nPowiatowe Centrum Sportu w Raciborzu zaprasza do udziału w nowym wydarzeniu sportowym pod nazwą „Bieg na Piątkę po Powiecie Raciborskim”. To cykl ośmiu biegów\, które będą organizowane kolejno w gminach powiatu raciborskiego. Zgodnie z założeniami w ciągu roku odbędą się co najmniej dwa biegi. \nKażdy z biegów będzie miał dystans 5 km\, wydarzenie jest więc skierowane zarówno do osób rozpoczynających swoją przygodę z bieganiem\, jak i bardziej doświadczonych zawodników. Każdy uczestnik po ukończeniu biegu otrzyma medal\, który będzie stanowił część większej całości. Podobną ideę zastosowano w przypadku numerów startowych\, które po zakończeniu całego cyklu będą tworzyć jedną kolekcjonerską serię. \nOrganizatorzy przewidzieli klasyfikację Grand Prix obejmującą cały cykl biegów. \nPierwszy bieg zaplanowano na 7 czerwca. Start nastąpi o godz. 14:00 przy ruinach pałacu w Sławikowie przy ul. Parkowej\, gdzie zlokalizowana będzie również meta. W wydarzeniu mogą wziąć udział osoby\, które ukończyły 14 lat. Zapisy trwają na stronie www.strefazajec.pl/course/view/id/85635\, a opłata startowa wynosi 25 zł. Liczba miejsc w pierwszym biegu jest ograniczona do 150 uczestników. \nDo pobrania: Regulamin Biegu na Piątkę 2026 w Rudniku \n \nfot. freepik.com\noprac. /kp/ \n\n   \n  \n   \n   \n  Obserwuj nas w Google News\n  \n  \n  \n  \n  \n  \n  Integracja i współpraca gospodarcza \n  \n\n  \n    \n      \n        \n          \n            \n              \n                \n              \n            \n          \n          \n            \n              Kwalifikowana pieczęć elektroniczna a KSeF – rosnące znaczenie dla gospodarki\n              \n            \n          \n        \n      \n      \n      \n        \n          \n            \n              \n                \n              \n            \n          \n          \n            \n              Przemysł i energetyka w czasie transformacji. Kongres INTO 2026 w Wiśle\n              \n            \n          \n        \n      \n      \n      \n        \n          \n            \n              \n                \n              \n            \n          \n          \n            \n              Wielkanoc: tradycja\, codzienność i rosnące ceny
URL:https://raciborz.com.pl/zapowiedzi/bieg-na-piatke-po-powiecie-raciborskim-w-slawikowie-7-czerwca
LOCATION:Ruiny pałacu w Sławikowie\, Parkowa 8\, Sławików\, śląskie\, 47-417\, Poland
CATEGORIES:sport zdrowie
ATTACH;FMTTYPE=image/jpeg:https://raciborz.com.pl/wp-content/uploads/2026/03/biegi.jpg
ORGANIZER;CN="Powiatowe Centrum Sportu w Raciborzu":MAILTO:pcs.raciborz@gmail.com
END:VEVENT
END:VCALENDAR