BEGIN:VCALENDAR
VERSION:2.0
PRODID:-//Raciborski Portal Internetowy - raciborz.com.pl - ECPv6.15.17.1//NONSGML v1.0//EN
CALSCALE:GREGORIAN
METHOD:PUBLISH
X-ORIGINAL-URL:https://raciborz.com.pl
X-WR-CALDESC:Wydarzenia dla Raciborski Portal Internetowy - raciborz.com.pl
REFRESH-INTERVAL;VALUE=DURATION:PT1H
X-Robots-Tag:noindex
X-PUBLISHED-TTL:PT1H
BEGIN:VTIMEZONE
TZID:Europe/Warsaw
BEGIN:DAYLIGHT
TZOFFSETFROM:+0100
TZOFFSETTO:+0200
TZNAME:CEST
DTSTART:20250330T010000
END:DAYLIGHT
BEGIN:STANDARD
TZOFFSETFROM:+0200
TZOFFSETTO:+0100
TZNAME:CET
DTSTART:20251026T010000
END:STANDARD
BEGIN:DAYLIGHT
TZOFFSETFROM:+0100
TZOFFSETTO:+0200
TZNAME:CEST
DTSTART:20260329T010000
END:DAYLIGHT
BEGIN:STANDARD
TZOFFSETFROM:+0200
TZOFFSETTO:+0100
TZNAME:CET
DTSTART:20261025T010000
END:STANDARD
BEGIN:DAYLIGHT
TZOFFSETFROM:+0100
TZOFFSETTO:+0200
TZNAME:CEST
DTSTART:20270328T010000
END:DAYLIGHT
BEGIN:STANDARD
TZOFFSETFROM:+0200
TZOFFSETTO:+0100
TZNAME:CET
DTSTART:20271031T010000
END:STANDARD
END:VTIMEZONE
BEGIN:VEVENT
DTSTART;TZID=Europe/Warsaw:20260326T180000
DTEND;TZID=Europe/Warsaw:20260326T180000
DTSTAMP:20260425T140446
CREATED:20260318T131031Z
LAST-MODIFIED:20260318T131050Z
UID:1000370017-1774548000-1774548000@raciborz.com.pl
SUMMARY:Kryminalne zagadki wczoraj i dziś. Spotkanie w Muzeum w Raciborzu 26 marca
DESCRIPTION:Jak naukowcy odkrywają okoliczności śmierci ludzi sprzed setek i tysięcy lat? O tym opowie dr Joanna Stojer-Polańska podczas spotkania w raciborskim muzeum. \nMuzeum w Raciborzu zaprasza na kolejne wydarzenie z cyklu „Czwartkowe spotkania z zabytkami”. Tym razem uczestnicy będą mogli wyruszyć w podróż przez historię zbrodni – od odległej przeszłości po współczesność. Spotkanie zatytułowane „Kryminalne zagadki wczoraj i dziś” odbędzie się 26 marca o godz. 18:00 w siedzibie muzeum przy ul. Chopina 12. Wstęp na wydarzenie jest bezpłatny. \nPodczas prelekcji uczestnicy poznają\, w jaki sposób archeologia i kryminalistyka łączą swoje metody badawcze\, aby wyjaśniać zagadki sprzed setek\, a nawet tysięcy lat. O możliwościach współczesnej nauki opowie dr Joanna Stojer-Polańska\, prawniczka\, kryminalistka i wykładowczyni Akademia Nauk Stosowanych w Raciborzu. W spotkaniu weźmie udział także mgr Wiktoria Stangret. \nPrelegentki przybliżą uczestnikom m.in. sposoby badania dawnych miejsc pochówków\, analizę śladów zachowanych na ludzkich szczątkach oraz metody rekonstruowania wydarzeń\, które doprowadziły do śmierci człowieka. Zaprezentowane zostaną także przykłady odkryć archeologicznych związanych z ofiarami przemocy sprzed tysięcy lat i współczesne techniki wykorzystywane do wyjaśniania takich przypadków. \nW trakcie spotkania omówione zostaną również metody stosowane w nowoczesnej kryminalistyce – od klasycznych oględzin miejsca zdarzenia po zaawansowane badania DNA. Wykład pokaże\, jak naukowcy\, podobnie jak detektywi\, analizują ślady przeszłości i na ich podstawie odtwarzają wydarzenia\, które przez wieki pozostawały tajemnicą. \n \nfot. freepik.com\noprac. /kp/ \n\n   \n  \n   \n   \n  Obserwuj nas w Google News\n  \n  \n  \n  \n  \n  \n  Integracja i współpraca gospodarcza
URL:https://raciborz.com.pl/zapowiedzi/kryminalne-zagadki-wczoraj-i-dzis-spotkanie-w-muzeum-w-raciborzu-26-marca
LOCATION:Muzeum w Raciborzu\, ul. Gimnazjalna 1\, Racibórz\, śląskie\, 47-400\, Poland
CATEGORIES:rozrywka
ATTACH;FMTTYPE=image/jpeg:https://raciborz.com.pl/wp-content/uploads/2026/03/kryminalne-zagadki-1.jpg
ORGANIZER;CN="Muzeum w Raciborzu":MAILTO:kontakt@muzeum-raciborz.pl
END:VEVENT
BEGIN:VEVENT
DTSTART;TZID=Europe/Warsaw:20260416T180000
DTEND;TZID=Europe/Warsaw:20260416T180000
DTSTAMP:20260425T140446
CREATED:20260414T121232Z
LAST-MODIFIED:20260414T121250Z
UID:1000371367-1776362400-1776362400@raciborz.com.pl
SUMMARY:„Archeologia na tropie tajemnic raciborskich Piastów” na Zamku Piastowskim w Raciborzu 16 kwietnia
DESCRIPTION:Uczestnicy dowiedzą się\, jakie ślady dawnych władców mogą znajdować się pod ziemią i w jaki sposób specjaliści interpretują materialne pozostałości minionych epok. \nW Domu Książęcym Zamku Piastowskiego w Raciborzu odbędzie się kolejne spotkanie z cyklu „Detektywi historii”. Będzie ono poświęcone badaniom archeologicznym nad dziejami raciborskich Piastów. Wydarzenie zaplanowano na 16 kwietnia o godz. 18:00\, a wstęp dla wszystkich zainteresowanych będzie bezpłatny. \nTym razem tematem przewodnim spotkania będzie archeologia jako narzędzie do odkrywania przeszłości. W czasie spotkania pod nazwą „Archeologia na tropie tajemnic raciborskich Piastów” zostaną wyniki badań prowadzonych na terenie Raciborza. Uczestnicy dowiedzą się\, jakie ślady dawnych władców mogą znajdować się pod ziemią oraz w jaki sposób specjaliści interpretują materialne pozostałości minionych epok\, aby odtwarzać historię regionu. \nW panelu dyskusyjnym wezmą udział Romuald Turakiewicz – dyrektor Muzeum w Raciborzu\, Martyna Lipicka i Marcin Rezner – asystenci w Dziale Archeologii\, a także Grzegorz Wawoczny – wicedyrektor Zamku Piastowskiego w Raciborzu. \n \nfot. arch. red.\noprac. /kp/ \n\n   \n  \n   \n   \n  Obserwuj nas w Google News\n  \n  \n  \n  \n  \n  \n  Integracja i współpraca gospodarcza
URL:https://raciborz.com.pl/zapowiedzi/archeologia-na-tropie-tajemnic-raciborskich-piastow-na-zamku-piastowskim-w-raciborzu-16-kwietnia
LOCATION:Zamek Piastowski w Raciborzu\, ul. Zamkowa 2\, Racibórz\, śląskie\, 47-400\, Polska
CATEGORIES:pozostałe
ATTACH;FMTTYPE=image/jpeg:https://raciborz.com.pl/wp-content/uploads/2025/06/Zamek-Piastowski-DSC05536.jpg
ORGANIZER;CN="Muzeum w Raciborzu":MAILTO:kontakt@muzeum-raciborz.pl
END:VEVENT
BEGIN:VEVENT
DTSTART;TZID=Europe/Warsaw:20260430T180000
DTEND;TZID=Europe/Warsaw:20260430T180000
DTSTAMP:20260425T140446
CREATED:20260416T220004Z
LAST-MODIFIED:20260416T214205Z
UID:1000371535-1777572000-1777572000@raciborz.com.pl
SUMMARY:„Organizacja cechowa. Rzemiosło zanim zastąpiła je produkcja” w Muzeum w Raciborzu 30 kwietnia
DESCRIPTION:Uczestnicy spotkania będą mogli dowiedzieć się\, czym dokładnie były cechy\, jakie pełniły funkcje w dawnych miastach oraz jakie ślady ich działalności zachowały się w Raciborzu do dziś. \n30 kwietnia o godz. 18:00 w Muzeum w Raciborzu odbędzie się kolejne spotkanie z cyklu „Czwartkowe spotkanie z zabytkami”. Tym razem wydarzenie poświęcone będzie historii organizacji cechowych i roli rzemiosła w czasach poprzedzających rozwój produkcji przemysłowej. Spotkanie zatytułowane „Organizacja cechowa. Rzemiosło zanim zastąpiła je produkcja” będzie okazją do poznania dziejów dawnych struktur rzemieślniczych oraz ich znaczenia w życiu miast. Wykład wygłosi Aleksandra Frydrychowicz. \nPodczas spotkania przybliżona zostanie historia powstawania cechów rzemieślniczych\, które zaczęły kształtować się w miastach Europy Środkowej we wczesnym średniowieczu wraz z rozwojem ośrodków miejskich. W Raciborzu tradycje cechowe sięgają XIII w.\, czyli czasu powstania miasta. Przez kolejne stulecia system cechowy organizował życie gospodarcze i społeczne mieszczan\, regulując zasady wykonywania zawodów i funkcjonowanie poszczególnych branż rzemieślniczych. \nCechy skupiały przedstawicieli wielu profesji\, m.in. kowali\, bednarzy\, rzeźników\, browarników\, piekarzy czy sukienników. Odpowiadały nie tylko za kontrolę jakości wyrobów i organizację pracy\, ale także za zapewnienie mieszkańcom miast wielu potrzebnych usług i produktów. Rzemieślnicy działający w cechach przyczyniali się również do powstawania cennych zabytków architektury oraz dzieł sztuki zdobionych malowidłami i rzeźbami. \nSystem cechowy funkcjonował przez wiele stuleci i odgrywał ważną rolę społeczno-gospodarczą aż do początku XIX w. Jego znaczenie zaczęło maleć po reformach wprowadzonych przez pruską dynastię Hohenzollernów\, które wprowadziły swobodę działalności gospodarczej. Zmiany te przyczyniły się do rozwoju gospodarczego Raciborza i całej monarchii. \nUczestnicy spotkania będą mogli dowiedzieć się\, czym dokładnie były cechy\, jakie pełniły funkcje w dawnych miastach oraz jakie ślady ich działalności zachowały się w Raciborzu do dziś. Wydarzenie będzie okazją do poznania historii lokalnego rzemiosła oraz zobaczenia związanych z nim zabytków. \n \nfot. freepik.com\noprac. /kp/ \n\n   \n  \n   \n   \n  Obserwuj nas w Google News\n  \n  \n  \n  \n  \n  \n  Integracja i współpraca gospodarcza
URL:https://raciborz.com.pl/zapowiedzi/organizacja-cechowa-rzemioslo-zanim-zastapila-je-produkcja-w-muzeum-w-raciborzu-30-kwietnia
LOCATION:Muzeum w Raciborzu\, ul. Gimnazjalna 1\, Racibórz\, śląskie\, 47-400\, Poland
CATEGORIES:rozrywka
ATTACH;FMTTYPE=image/jpeg:https://raciborz.com.pl/wp-content/uploads/2026/04/praca-rzemioslo-drewno.jpg
ORGANIZER;CN="Muzeum w Raciborzu":MAILTO:kontakt@muzeum-raciborz.pl
END:VEVENT
END:VCALENDAR