BEGIN:VCALENDAR
VERSION:2.0
PRODID:-//Raciborski Portal Internetowy - raciborz.com.pl - ECPv6.15.17.1//NONSGML v1.0//EN
CALSCALE:GREGORIAN
METHOD:PUBLISH
X-ORIGINAL-URL:https://raciborz.com.pl
X-WR-CALDESC:Wydarzenia dla Raciborski Portal Internetowy - raciborz.com.pl
REFRESH-INTERVAL;VALUE=DURATION:PT1H
X-Robots-Tag:noindex
X-PUBLISHED-TTL:PT1H
BEGIN:VTIMEZONE
TZID:Europe/Warsaw
BEGIN:DAYLIGHT
TZOFFSETFROM:+0100
TZOFFSETTO:+0200
TZNAME:CEST
DTSTART:20240331T010000
END:DAYLIGHT
BEGIN:STANDARD
TZOFFSETFROM:+0200
TZOFFSETTO:+0100
TZNAME:CET
DTSTART:20241027T010000
END:STANDARD
BEGIN:DAYLIGHT
TZOFFSETFROM:+0100
TZOFFSETTO:+0200
TZNAME:CEST
DTSTART:20250330T010000
END:DAYLIGHT
BEGIN:STANDARD
TZOFFSETFROM:+0200
TZOFFSETTO:+0100
TZNAME:CET
DTSTART:20251026T010000
END:STANDARD
BEGIN:DAYLIGHT
TZOFFSETFROM:+0100
TZOFFSETTO:+0200
TZNAME:CEST
DTSTART:20260329T010000
END:DAYLIGHT
BEGIN:STANDARD
TZOFFSETFROM:+0200
TZOFFSETTO:+0100
TZNAME:CET
DTSTART:20261025T010000
END:STANDARD
BEGIN:DAYLIGHT
TZOFFSETFROM:+0100
TZOFFSETTO:+0200
TZNAME:CEST
DTSTART:20270328T010000
END:DAYLIGHT
BEGIN:STANDARD
TZOFFSETFROM:+0200
TZOFFSETTO:+0100
TZNAME:CET
DTSTART:20271031T010000
END:STANDARD
END:VTIMEZONE
BEGIN:VEVENT
DTSTART;TZID=Europe/Warsaw:20260316T090000
DTEND;TZID=Europe/Warsaw:20260316T130000
DTSTAMP:20260425T180425
CREATED:20260306T121758Z
LAST-MODIFIED:20260306T121938Z
UID:1000369569-1773651600-1773666000@raciborz.com.pl
SUMMARY:Konkurs „Polonistyczny Olimp” dla uczniów klas VII i VIII w ZSO nr 1 w Raciborzu 16 marca
DESCRIPTION:Uczniowie klas VII i VIII mogą wziąć udział rywalizacji\, która sprawdzi nie tylko ich wiedzę o literaturze i gramatyce\, ale także umiejętność współpracy i kreatywność. \nW Zespole Szkół Ogólnokształcących nr 1 w Raciborzu odbędzie się Powiatowy Konkurs Polonistyczny „Polonistyczny Olimp”. Wydarzenie skierowane jest do uczniów klas VII i VIII szkół podstawowych i ma charakter międzyszkolnej rywalizacji drużynowej z elementami pracy indywidualnej. Konkurs zaplanowano na 16 marca w siedzibie szkoły przy ul. Kasprowicza. Uczestnicy będą rywalizować w godz. 9:00-13.00. \nCelem konkursu jest rozwijanie zainteresowań polonistycznych młodzieży\, pogłębianie wiedzy z zakresu języka polskiego i literatury\, a także kształtowanie umiejętności pracy zespołowej oraz kreatywnego myślenia. Organizatorzy chcą również zwrócić uwagę na znaczenie kompetencji medialnych i zachęcić uczniów do twórczego podejścia do lektur szkolnych. \nKażdą szkołę mogą reprezentować maksymalnie dwie drużyny liczące po trzech uczniów. Wyłonienie zespołu reprezentującego placówkę powinno nastąpić podczas etapu szkolnego organizowanego przez szkołę macierzystą. \nRywalizacja składać się będzie z kilku części. W pierwszej uczestnicy zmierzą się z testami sprawdzającymi wiedzę z zakresu lektur szkolnych dla klas VII–VIII\, gramatyki\, ortografii\, interpunkcji i frazeologii. Zadania będą rozwiązywane indywidualnie przez członków drużyn\, a zdobyte punkty zostaną zaliczone do wspólnego wyniku zespołu. Kolejnym etapem będzie turniej drużynowy obejmujący różnorodne zadania zespołowe sprawdzające wiedzę polonistyczną\, ćwiczenia językowe oraz zadania wymagające współpracy i logicznego myślenia. Uczniowie zmierzą się również z zadaniem kreatywnym polegającym na przygotowaniu krótkiego filmiku promującego wylosowaną lekturę szkolną. \nW trakcie wydarzenia przewidziano także przerwę dla uczestników oraz dodatkowe atrakcje\, w tym warsztaty dziennikarskie i możliwość zwiedzenia szkoły. Po zakończeniu wszystkich konkurencji komisja konkursowa podsumuje zdobyte punkty i ogłosi wyniki. \nNajlepsze drużyny otrzymają dyplomy i nagrody rzeczowe. Konkurs ma być nie tylko okazją do sprawdzenia wiedzy\, ale również do integracji uczniów z różnych szkół oraz rozwijania zainteresowań związanych z językiem polskim i literaturą. Organizatorzy zapowiadają\, że wydarzenie będzie łączyć elementy nauki\, rywalizacji i twórczej zabawy. \nDo pobrania: Regulamin konkursu „Polonistyczny Olimp” \n \noprac. /kp/ \n\n   \n  \n   \n   \n  Obserwuj nas w Google News\n  \n  \n  \n  \n  \n  \n  Integracja i współpraca gospodarcza \n  \n\n  \n    \n      \n        \n          \n            \n              \n                \n              \n            \n          \n          \n            \n              PF Plasty w Chuchelnej nawiązuje współpracę transgraniczną z ŚPG ŚLĄSK.ONLINE\n              \n            \n          \n        \n      \n      \n      \n        \n          \n            \n              \n                \n              \n            \n          \n          \n            \n              Kwalifikowana pieczęć elektroniczna a KSeF – rosnące znaczenie dla gospodarki\n              \n            \n          \n        \n      \n      \n      \n        \n          \n            \n              \n                \n              \n            \n          \n          \n            \n              Przemysł i energetyka w czasie transformacji. Kongres INTO 2026 w Wiśle
URL:https://raciborz.com.pl/zapowiedzi/konkurs-polonistyczny-olimp-dla-uczniow-klas-vii-i-viii-w-zso-nr-1-w-raciborzu-16-marca
LOCATION:Zespół Szkół Ogólnokształcących nr 1 w Raciborzu\, Jana Kasprowicza 11\, Racibórz\, śląskie\, 47-400\, Poland
CATEGORIES:edukacja
ATTACH;FMTTYPE=image/jpeg:https://raciborz.com.pl/wp-content/uploads/2024/10/studenci-studia-uczniowie-szkola-edukacja.jpg
ORGANIZER;CN="Zesp%C3%B3%C5%82 Szk%C3%B3%C5%82 Og%C3%B3lnokszta%C5%82c%C4%85cych nr 1 w Raciborzu":MAILTO:lo1@raciborz.com.pl
END:VEVENT
BEGIN:VEVENT
DTSTART;VALUE=DATE:20251212
DTEND;VALUE=DATE:20251213
DTSTAMP:20260425T180425
CREATED:20250513T102614Z
LAST-MODIFIED:20250910T112757Z
UID:1000356516-1765497600-1765583999@raciborz.com.pl
SUMMARY:Jubileusz 80-lecia I Liceum Ogólnokształcącego im. Jana Kasprowicza w Raciborzu 12 grudnia
DESCRIPTION:W programie msza święta\, uroczystości w auli szkoły przy ul. Kasprowicza i wspólny poczęstunek oraz wieczorny bal. \nI Liceum Ogólnokształcące im. Jana Kasprowicza w Raciborzu obchodzi w tym roku swoje 80-lecie. Z tej okazji zorganizowane zostanie spotkanie absolwentów szkoły. – Historie wielu pokoleń I Liceum Ogólnokształcącego połączą się w jednym miejscu\, by razem świętować 80-lecie szkoły. To wyjątkowa okazja\, by na nowo poczuć ducha wspólnoty\, który – mimo upływu lat – wciąż łączy nas silnymi więzami. Zarezerwuj datę – 80-lecie czeka! – zaprasza I LO. \nUroczystości zaplanowano na 12 grudnia. O godz. 9:00 będzie miała miejsce msza święta w kościele Wniebowzięcia NMP\, a o godz. 11:00 – uroczystości główne w auli szkoły przy ul. Kasprowicza 11 i wspólny poczęstunek w murach szkoły. Natomiast na godz. 19:00 zaplanowano wieczorny bal w ośrodku wypoczynkowym Aqua-Brax w Szymocicach. To okazja do wspólnego świętowania\, spotkania dawnych przyjaciół i powrotu do szkolnych wspomnień. Trwają zapisy na oba wydarzenia. \nJak się zapisać? Absolwenci mogą wybrać jedną z dwóch form zgłoszenia:\n1. Formularz online + przelew.\nNależy wypełnić formularz zgłoszeniowy dostępny na stronie szkoły w zakładce „Jubileusz 80-lecia I LO”\, a następnie dokonać wpłaty na wskazane konto bankowe.\n2. Wpłata bez zgłoszenia online.\nWystarczy dokonać przelewu bez wypełniania formularza – będzie on traktowany jako jednocześnie zgłoszenie i rezerwacja miejsca. \nUdział w wydarzeniu potwierdza wpłata na konto: 13 1050 1328 1000 0022 1887 4499 z odpowiednim dopiskiem:\n– „Udział w Zjeździe + imię i nazwisko\, rok ukończenia szkoły” – koszt 60 zł/os.\n– „Udział w Balu + imię i nazwisko\, rok ukończenia szkoły” – koszt 290 zł/os.\n– „Udział w Zjeździe i Balu + imię i nazwisko\, rok ukończenia szkoły” – koszt 350 zł/os. \n \noprac. /kp/ \n\n   \n  \n   \n   \n  Obserwuj nas w Google News\n  \n  \n  \n  \n  \n  \n  Integracja i współpraca gospodarcza \n  \n\n  \n    \n      \n        \n          \n            \n              \n                \n              \n            \n          \n          \n            \n              PF Plasty w Chuchelnej nawiązuje współpracę transgraniczną z ŚPG ŚLĄSK.ONLINE\n              \n            \n          \n        \n      \n      \n      \n        \n          \n            \n              \n                \n              \n            \n          \n          \n            \n              Kwalifikowana pieczęć elektroniczna a KSeF – rosnące znaczenie dla gospodarki\n              \n            \n          \n        \n      \n      \n      \n        \n          \n            \n              \n                \n              \n            \n          \n          \n            \n              Przemysł i energetyka w czasie transformacji. Kongres INTO 2026 w Wiśle
URL:https://raciborz.com.pl/zapowiedzi/jubileusz-80-lecia-i-liceum-ogolnoksztalcacego-im-jana-kasprowicza-w-raciborzu-12-grudnia
LOCATION:Zespół Szkół Ogólnokształcących nr 1 w Raciborzu\, Jana Kasprowicza 11\, Racibórz\, śląskie\, 47-400\, Poland
CATEGORIES:edukacja
ATTACH;FMTTYPE=image/jpeg:https://raciborz.com.pl/wp-content/uploads/2023/10/i-lo-raciborz-liceum.jpg
ORGANIZER;CN="Zesp%C3%B3%C5%82 Szk%C3%B3%C5%82 Og%C3%B3lnokszta%C5%82c%C4%85cych nr 1 w Raciborzu":MAILTO:lo1@raciborz.com.pl
END:VEVENT
END:VCALENDAR