BEGIN:VCALENDAR
VERSION:2.0
PRODID:-//Raciborski Portal Internetowy - raciborz.com.pl - ECPv6.15.17.1//NONSGML v1.0//EN
CALSCALE:GREGORIAN
METHOD:PUBLISH
X-WR-CALNAME:Raciborski Portal Internetowy - raciborz.com.pl
X-ORIGINAL-URL:https://raciborz.com.pl
X-WR-CALDESC:Wydarzenia dla Raciborski Portal Internetowy - raciborz.com.pl
REFRESH-INTERVAL;VALUE=DURATION:PT1H
X-Robots-Tag:noindex
X-PUBLISHED-TTL:PT1H
BEGIN:VTIMEZONE
TZID:Europe/Warsaw
BEGIN:DAYLIGHT
TZOFFSETFROM:+0100
TZOFFSETTO:+0200
TZNAME:CEST
DTSTART:20250330T010000
END:DAYLIGHT
BEGIN:STANDARD
TZOFFSETFROM:+0200
TZOFFSETTO:+0100
TZNAME:CET
DTSTART:20251026T010000
END:STANDARD
BEGIN:DAYLIGHT
TZOFFSETFROM:+0100
TZOFFSETTO:+0200
TZNAME:CEST
DTSTART:20260329T010000
END:DAYLIGHT
BEGIN:STANDARD
TZOFFSETFROM:+0200
TZOFFSETTO:+0100
TZNAME:CET
DTSTART:20261025T010000
END:STANDARD
BEGIN:DAYLIGHT
TZOFFSETFROM:+0100
TZOFFSETTO:+0200
TZNAME:CEST
DTSTART:20270328T010000
END:DAYLIGHT
BEGIN:STANDARD
TZOFFSETFROM:+0200
TZOFFSETTO:+0100
TZNAME:CET
DTSTART:20271031T010000
END:STANDARD
END:VTIMEZONE
BEGIN:VEVENT
DTSTART;VALUE=DATE:20260420
DTEND;VALUE=DATE:20260424
DTSTAMP:20260423T204019
CREATED:20260414T085838Z
LAST-MODIFIED:20260414T085856Z
UID:1000371342-1776643200-1776988799@raciborz.com.pl
SUMMARY:Szkolenie online o stażowym z ZUS 20 i 23 kwietnia
DESCRIPTION:Webinary skierowane są do osób ubezpieczonych – tych\, które planują złożyć wniosek o wydanie zaświadczenia.  \nOddział ZUS w Rybniku organizuje cykl bezpłatnych szkoleń online poświęconych zasadom potwierdzania stażu pracy. Choć instytucja wydała już ponad milion zaświadczeń\, wciąż znaczna część wniosków rozpatrywana jest negatywnie\, co skłoniło ekspertów do przygotowania merytorycznego wsparcia dla osób planujących dopełnienie tych formalności. Wydarzenie jest skierowane do ubezpieczonych\, a podczas spotkań omówione zostaną zasady przyznawania zaświadczeń\, wpływ nowych przepisów na staż pracy i techniczne aspekty poprawnego wypełniania wniosków. Zainteresowani mają do wyboru dwa terminy webinarów: 20 kwietnia o godz. 16:00 oraz 23 kwietnia o godz. 9:00. \n \n\n   \n  \n   \n   \n  Obserwuj nas w Google News\n  \n  \n  \n  \n  \n  \n  Integracja i współpraca gospodarcza \n  \n\n  \n    \n      \n        \n          \n            \n              \n                \n              \n            \n          \n          \n            \n              Kwalifikowana pieczęć elektroniczna a KSeF – rosnące znaczenie dla gospodarki\n              \n            \n          \n        \n      \n      \n      \n        \n          \n            \n              \n                \n              \n            \n          \n          \n            \n              Przemysł i energetyka w czasie transformacji. Kongres INTO 2026 w Wiśle\n              \n            \n          \n        \n      \n      \n      \n        \n          \n            \n              \n                \n              \n            \n          \n          \n            \n              Wielkanoc: tradycja\, codzienność i rosnące ceny
URL:https://raciborz.com.pl/zapowiedzi/szkolenie-online-o-stazowym-z-zus-20-i-23-kwietnia
CATEGORIES:gospodarka samorząd
ATTACH;FMTTYPE=image/jpeg:https://raciborz.com.pl/wp-content/uploads/2024/10/komputer-praca-zdalna-home-office.jpg
END:VEVENT
END:VCALENDAR